Package: BaalChIP Version: 1.26.0 Command: rm -rf BaalChIP.buildbin-libdir && mkdir BaalChIP.buildbin-libdir && /Users/biocbuild/BBS/utils/build-universal.sh BaalChIP_1.26.0.tar.gz /Library/Frameworks/R.framework/Resources/bin/R BaalChIP.buildbin-libdir StartedAt: 2023-10-16 08:59:05 -0400 (Mon, 16 Oct 2023) EndedAt: 2023-10-16 09:03:42 -0400 (Mon, 16 Oct 2023) EllapsedTime: 277.2 seconds RetCode: 0 Status: OK PackageFile: BaalChIP_1.26.0.tgz PackageFileSize: 107 MiB