Package: BUScorrect Version: 1.18.0 Command: rm -rf BUScorrect.buildbin-libdir && mkdir BUScorrect.buildbin-libdir && F:\biocbuild\bbs-3.17-bioc\R\bin\R.exe CMD INSTALL --build --library=BUScorrect.buildbin-libdir BUScorrect_1.18.0.tar.gz StartedAt: 2023-10-16 08:31:17 -0400 (Mon, 16 Oct 2023) EndedAt: 2023-10-16 08:31:51 -0400 (Mon, 16 Oct 2023) EllapsedTime: 34.0 seconds RetCode: 0 Status: OK PackageFile: BUScorrect_1.18.0.zip PackageFileSize: 3.609 MiB