Package: BUScorrect Version: 1.18.0 Command: /home/biocbuild/bbs-3.17-bioc/R/bin/R CMD build --keep-empty-dirs --no-resave-data BUScorrect StartedAt: 2023-10-15 16:10:25 -0400 (Sun, 15 Oct 2023) EndedAt: 2023-10-15 16:12:13 -0400 (Sun, 15 Oct 2023) EllapsedTime: 108.2 seconds RetCode: 0 Status: OK PackageFile: BUScorrect_1.18.0.tar.gz PackageFileSize: 3.518 MiB