Package: BUS Version: 1.56.0 Command: F:\biocbuild\bbs-3.17-bioc\R\bin\R.exe CMD INSTALL BUS StartedAt: 2023-10-15 16:54:46 -0400 (Sun, 15 Oct 2023) EndedAt: 2023-10-15 16:54:53 -0400 (Sun, 15 Oct 2023) EllapsedTime: 6.8 seconds RetCode: 0 Status: OK