Package: BUS Version: 1.56.0 Command: F:\biocbuild\bbs-3.17-bioc\R\bin\R.exe CMD check --no-multiarch --install=check:BUS.install-out.txt --library=F:\biocbuild\bbs-3.17-bioc\R\library --no-vignettes --timings BUS_1.56.0.tar.gz StartedAt: 2023-10-16 00:11:18 -0400 (Mon, 16 Oct 2023) EndedAt: 2023-10-16 00:12:01 -0400 (Mon, 16 Oct 2023) EllapsedTime: 43.7 seconds RetCode: 0 Status: OK CheckDir: BUS.Rcheck Warnings: 0