Package: BUS Version: 1.56.0 Command: chmod a+r BUS -R && F:\biocbuild\bbs-3.17-bioc\R\bin\R.exe CMD build --keep-empty-dirs --no-resave-data BUS StartedAt: 2023-10-15 17:51:28 -0400 (Sun, 15 Oct 2023) EndedAt: 2023-10-15 17:51:40 -0400 (Sun, 15 Oct 2023) EllapsedTime: 12.2 seconds RetCode: 0 Status: OK PackageFile: BUS_1.56.0.tar.gz PackageFileSize: 2.72 MiB