Package: BUS Version: 1.56.0 Command: rm -rf BUS.buildbin-libdir && mkdir BUS.buildbin-libdir && F:\biocbuild\bbs-3.17-bioc\R\bin\R.exe CMD INSTALL --build --library=BUS.buildbin-libdir BUS_1.56.0.tar.gz StartedAt: 2023-10-16 08:31:15 -0400 (Mon, 16 Oct 2023) EndedAt: 2023-10-16 08:31:23 -0400 (Mon, 16 Oct 2023) EllapsedTime: 7.9 seconds RetCode: 0 Status: OK PackageFile: BUS_1.56.0.zip PackageFileSize: 2.097 MiB