Package: BUS Version: 1.56.0 Command: /home/biocbuild/bbs-3.17-bioc/R/bin/R CMD INSTALL BUS StartedAt: 2023-10-15 15:43:57 -0400 (Sun, 15 Oct 2023) EndedAt: 2023-10-15 15:44:00 -0400 (Sun, 15 Oct 2023) EllapsedTime: 3.7 seconds RetCode: 0 Status: OK