Package: BUS Version: 1.56.0 Command: /home/biocbuild/bbs-3.17-bioc/R/bin/R CMD check --install=check:BUS.install-out.txt --library=/home/biocbuild/bbs-3.17-bioc/R/site-library --timings BUS_1.56.0.tar.gz StartedAt: 2023-10-15 19:46:36 -0400 (Sun, 15 Oct 2023) EndedAt: 2023-10-15 19:46:58 -0400 (Sun, 15 Oct 2023) EllapsedTime: 22.0 seconds RetCode: 0 Status: OK CheckDir: BUS.Rcheck Warnings: 0