Package: BUS Version: 1.56.0 Command: /home/biocbuild/bbs-3.17-bioc/R/bin/R CMD build --keep-empty-dirs --no-resave-data BUS StartedAt: 2023-10-15 16:10:25 -0400 (Sun, 15 Oct 2023) EndedAt: 2023-10-15 16:10:31 -0400 (Sun, 15 Oct 2023) EllapsedTime: 6.2 seconds RetCode: 0 Status: OK PackageFile: BUS_1.56.0.tar.gz PackageFileSize: 2.718 MiB