Package: BSgenomeForge Version: 1.0.1 Command: F:\biocbuild\bbs-3.17-bioc\R\bin\R.exe CMD INSTALL BSgenomeForge StartedAt: 2023-10-15 16:17:00 -0400 (Sun, 15 Oct 2023) EndedAt: 2023-10-15 16:17:34 -0400 (Sun, 15 Oct 2023) EllapsedTime: 33.6 seconds RetCode: 0 Status: OK