Package: BSgenomeForge Version: 1.0.1 Command: /home/biocbuild/bbs-3.17-bioc/R/bin/R CMD check --install=check:BSgenomeForge.install-out.txt --library=/home/biocbuild/bbs-3.17-bioc/R/site-library --timings BSgenomeForge_1.0.1.tar.gz StartedAt: 2023-10-15 19:45:08 -0400 (Sun, 15 Oct 2023) EndedAt: 2023-10-15 19:50:12 -0400 (Sun, 15 Oct 2023) EllapsedTime: 304.2 seconds RetCode: 0 Status: OK CheckDir: BSgenomeForge.Rcheck Warnings: 0