Package: BSgenomeForge Version: 1.0.1 Command: /home/biocbuild/bbs-3.17-bioc/R/bin/R CMD build --keep-empty-dirs --no-resave-data BSgenomeForge StartedAt: 2023-10-15 16:09:45 -0400 (Sun, 15 Oct 2023) EndedAt: 2023-10-15 16:10:30 -0400 (Sun, 15 Oct 2023) EllapsedTime: 45.7 seconds RetCode: 0 Status: OK PackageFile: BSgenomeForge_1.0.1.tar.gz PackageFileSize: 241.5 KiB