Package: BSgenome Version: 1.68.0 Command: /home/biocbuild/bbs-3.17-bioc/R/bin/R CMD build --keep-empty-dirs --no-resave-data BSgenome StartedAt: 2023-10-15 16:09:44 -0400 (Sun, 15 Oct 2023) EndedAt: 2023-10-15 16:11:21 -0400 (Sun, 15 Oct 2023) EllapsedTime: 96.5 seconds RetCode: 0 Status: OK PackageFile: BSgenome_1.68.0.tar.gz PackageFileSize: 5.635 MiB