Package: BSgenome Version: 1.68.0 Command: /Library/Frameworks/R.framework/Resources/bin/R CMD check --install=check:BSgenome.install-out.txt --library=/Library/Frameworks/R.framework/Resources/library --no-vignettes --timings BSgenome_1.68.0.tar.gz StartedAt: 2023-10-15 23:18:19 -0400 (Sun, 15 Oct 2023) EndedAt: 2023-10-15 23:32:00 -0400 (Sun, 15 Oct 2023) EllapsedTime: 820.8 seconds RetCode: 0 Status: WARNINGS CheckDir: BSgenome.Rcheck Warnings: 3