Package: BSgenome Version: 1.68.0 Command: rm -rf BSgenome.buildbin-libdir && mkdir BSgenome.buildbin-libdir && /Users/biocbuild/BBS/utils/build-universal.sh BSgenome_1.68.0.tar.gz /Library/Frameworks/R.framework/Resources/bin/R BSgenome.buildbin-libdir StartedAt: 2023-10-16 09:04:03 -0400 (Mon, 16 Oct 2023) EndedAt: 2023-10-16 09:06:46 -0400 (Mon, 16 Oct 2023) EllapsedTime: 162.5 seconds RetCode: 0 Status: OK PackageFile: BSgenome_1.68.0.tgz PackageFileSize: 7.382 MiB