Package: BRGenomics Version: 1.12.0 Command: chmod a+r BRGenomics -R && F:\biocbuild\bbs-3.17-bioc\R\bin\R.exe CMD build --keep-empty-dirs --no-resave-data BRGenomics StartedAt: 2023-10-15 17:50:13 -0400 (Sun, 15 Oct 2023) EndedAt: 2023-10-15 17:51:56 -0400 (Sun, 15 Oct 2023) EllapsedTime: 102.2 seconds RetCode: 0 Status: OK PackageFile: BRGenomics_1.12.0.tar.gz PackageFileSize: 3.638 MiB