Package: BRGenomics Version: 1.12.0 Command: /Library/Frameworks/R.framework/Resources/bin/R CMD build --keep-empty-dirs --no-resave-data BRGenomics StartedAt: 2023-10-15 17:08:40 -0400 (Sun, 15 Oct 2023) EndedAt: 2023-10-15 17:12:00 -0400 (Sun, 15 Oct 2023) EllapsedTime: 200.2 seconds RetCode: 0 Status: OK PackageFile: BRGenomics_1.12.0.tar.gz PackageFileSize: 3.898 MiB