Package: BRGenomics Version: 1.12.0 Command: rm -rf BRGenomics.buildbin-libdir && mkdir BRGenomics.buildbin-libdir && /Users/biocbuild/BBS/utils/build-universal.sh BRGenomics_1.12.0.tar.gz /Library/Frameworks/R.framework/Resources/bin/R BRGenomics.buildbin-libdir StartedAt: 2023-10-16 09:03:50 -0400 (Mon, 16 Oct 2023) EndedAt: 2023-10-16 09:05:34 -0400 (Mon, 16 Oct 2023) EllapsedTime: 104.2 seconds RetCode: 0 Status: OK PackageFile: BRGenomics_1.12.0.tgz PackageFileSize: 4.02 MiB