Package: BPRMeth Version: 1.26.1 Command: chmod a+r BPRMeth -R && F:\biocbuild\bbs-3.17-bioc\R\bin\R.exe CMD build --keep-empty-dirs --no-resave-data BPRMeth StartedAt: 2023-10-15 17:49:33 -0400 (Sun, 15 Oct 2023) EndedAt: 2023-10-15 17:51:47 -0400 (Sun, 15 Oct 2023) EllapsedTime: 134.7 seconds RetCode: 0 Status: OK PackageFile: BPRMeth_1.26.1.tar.gz PackageFileSize: 2.479 MiB