Package: BPRMeth Version: 1.26.1 Command: rm -rf BPRMeth.buildbin-libdir && mkdir BPRMeth.buildbin-libdir && F:\biocbuild\bbs-3.17-bioc\R\bin\R.exe CMD INSTALL --build --library=BPRMeth.buildbin-libdir BPRMeth_1.26.1.tar.gz StartedAt: 2023-10-16 08:30:23 -0400 (Mon, 16 Oct 2023) EndedAt: 2023-10-16 08:31:11 -0400 (Mon, 16 Oct 2023) EllapsedTime: 47.9 seconds RetCode: 0 Status: OK PackageFile: BPRMeth_1.26.1.zip PackageFileSize: 3.305 MiB