Package: BPRMeth Version: 1.26.1 Command: /home/biocbuild/bbs-3.17-bioc/R/bin/R CMD check --install=check:BPRMeth.install-out.txt --library=/home/biocbuild/bbs-3.17-bioc/R/site-library --timings BPRMeth_1.26.1.tar.gz StartedAt: 2023-10-15 19:40:48 -0400 (Sun, 15 Oct 2023) EndedAt: 2023-10-15 19:44:01 -0400 (Sun, 15 Oct 2023) EllapsedTime: 192.5 seconds RetCode: 0 Status: OK CheckDir: BPRMeth.Rcheck Warnings: 0