Package: BOBaFIT Version: 1.4.0 Command: /Library/Frameworks/R.framework/Resources/bin/R CMD INSTALL BOBaFIT StartedAt: 2023-10-15 15:53:57 -0400 (Sun, 15 Oct 2023) EndedAt: 2023-10-15 15:56:36 -0400 (Sun, 15 Oct 2023) EllapsedTime: 159.3 seconds RetCode: 0 Status: OK