Package: BOBaFIT Version: 1.4.0 Command: /Library/Frameworks/R.framework/Resources/bin/R CMD build --keep-empty-dirs --no-resave-data BOBaFIT StartedAt: 2023-10-15 17:05:55 -0400 (Sun, 15 Oct 2023) EndedAt: 2023-10-15 17:09:46 -0400 (Sun, 15 Oct 2023) EllapsedTime: 230.8 seconds RetCode: 0 Status: OK PackageFile: BOBaFIT_1.4.0.tar.gz PackageFileSize: 2.498 MiB