Package: BLMA Version: 1.24.0 Command: F:\biocbuild\bbs-3.17-bioc\R\bin\R.exe CMD INSTALL BLMA StartedAt: 2023-10-15 16:14:36 -0400 (Sun, 15 Oct 2023) EndedAt: 2023-10-15 16:15:04 -0400 (Sun, 15 Oct 2023) EllapsedTime: 28.4 seconds RetCode: 0 Status: OK