Package: BLMA Version: 1.24.0 Command: rm -rf BLMA.buildbin-libdir && mkdir BLMA.buildbin-libdir && F:\biocbuild\bbs-3.17-bioc\R\bin\R.exe CMD INSTALL --build --library=BLMA.buildbin-libdir BLMA_1.24.0.tar.gz StartedAt: 2023-10-16 08:30:11 -0400 (Mon, 16 Oct 2023) EndedAt: 2023-10-16 08:30:37 -0400 (Mon, 16 Oct 2023) EllapsedTime: 26.0 seconds RetCode: 0 Status: OK PackageFile: BLMA_1.24.0.zip PackageFileSize: 2.748 MiB