Package: BLMA Version: 1.24.0 Command: /Library/Frameworks/R.framework/Resources/bin/R CMD INSTALL BLMA StartedAt: 2023-10-15 15:25:08 -0400 (Sun, 15 Oct 2023) EndedAt: 2023-10-15 15:26:14 -0400 (Sun, 15 Oct 2023) EllapsedTime: 65.2 seconds RetCode: 0 Status: OK