Package: BLMA Version: 1.24.0 Command: /Library/Frameworks/R.framework/Resources/bin/R CMD check --install=check:BLMA.install-out.txt --library=/Library/Frameworks/R.framework/Resources/library --no-vignettes --timings BLMA_1.24.0.tar.gz StartedAt: 2023-10-15 23:12:48 -0400 (Sun, 15 Oct 2023) EndedAt: 2023-10-15 23:31:43 -0400 (Sun, 15 Oct 2023) EllapsedTime: 1135.2 seconds RetCode: 0 Status: OK CheckDir: BLMA.Rcheck Warnings: 0