Package: BLMA Version: 1.24.0 Command: rm -rf BLMA.buildbin-libdir && mkdir BLMA.buildbin-libdir && /Users/biocbuild/BBS/utils/build-universal.sh BLMA_1.24.0.tar.gz /Library/Frameworks/R.framework/Resources/bin/R BLMA.buildbin-libdir StartedAt: 2023-10-16 09:03:16 -0400 (Mon, 16 Oct 2023) EndedAt: 2023-10-16 09:04:29 -0400 (Mon, 16 Oct 2023) EllapsedTime: 73.0 seconds RetCode: 0 Status: OK PackageFile: BLMA_1.24.0.tgz PackageFileSize: 2.891 MiB