Package: BHC Version: 1.52.0 Command: chmod a+r BHC -R && F:\biocbuild\bbs-3.17-bioc\R\bin\R.exe CMD build --keep-empty-dirs --no-resave-data BHC StartedAt: 2023-10-15 17:34:59 -0400 (Sun, 15 Oct 2023) EndedAt: 2023-10-15 17:35:37 -0400 (Sun, 15 Oct 2023) EllapsedTime: 37.0 seconds RetCode: 0 Status: OK PackageFile: BHC_1.52.0.tar.gz PackageFileSize: 138.2 KiB