Package: BHC Version: 1.52.0 Command: rm -rf BHC.buildbin-libdir && mkdir BHC.buildbin-libdir && F:\biocbuild\bbs-3.17-bioc\R\bin\R.exe CMD INSTALL --build --library=BHC.buildbin-libdir BHC_1.52.0.tar.gz StartedAt: 2023-10-16 08:28:13 -0400 (Mon, 16 Oct 2023) EndedAt: 2023-10-16 08:28:47 -0400 (Mon, 16 Oct 2023) EllapsedTime: 34.0 seconds RetCode: 0 Status: OK PackageFile: BHC_1.52.0.zip PackageFileSize: 501.4 KiB