Package: BHC Version: 1.52.0 Command: /home/biocbuild/bbs-3.17-bioc/R/bin/R CMD build --keep-empty-dirs --no-resave-data BHC StartedAt: 2023-10-15 16:02:46 -0400 (Sun, 15 Oct 2023) EndedAt: 2023-10-15 16:03:13 -0400 (Sun, 15 Oct 2023) EllapsedTime: 26.6 seconds RetCode: 0 Status: OK PackageFile: BHC_1.52.0.tar.gz PackageFileSize: 137.8 KiB