Package: BHC Version: 1.52.0 Command: /Library/Frameworks/R.framework/Resources/bin/R CMD INSTALL BHC StartedAt: 2023-10-15 15:20:00 -0400 (Sun, 15 Oct 2023) EndedAt: 2023-10-15 15:20:27 -0400 (Sun, 15 Oct 2023) EllapsedTime: 26.2 seconds RetCode: 1 Status: ERROR