Package: BHC Version: 1.51.0 Command: /Library/Frameworks/R.framework/Resources/bin/R CMD check --install=check:BHC.install-out.txt --library=/Library/Frameworks/R.framework/Resources/library --no-vignettes --timings BHC_1.51.0.tar.gz StartedAt: 2023-03-15 22:54:09 -0400 (Wed, 15 Mar 2023) EndedAt: 2023-03-15 22:54:57 -0400 (Wed, 15 Mar 2023) EllapsedTime: 48.0 seconds RetCode: 0 Status: WARNINGS CheckDir: BHC.Rcheck Warnings: 1