Package: BHC Version: 1.52.0 Command: /Library/Frameworks/R.framework/Resources/bin/R CMD build --keep-empty-dirs --no-resave-data BHC StartedAt: 2023-10-15 16:55:21 -0400 (Sun, 15 Oct 2023) EndedAt: 2023-10-15 16:55:52 -0400 (Sun, 15 Oct 2023) EllapsedTime: 30.9 seconds RetCode: 1 Status: ERROR PackageFile: None PackageFileSize: NA