Package: BHC Version: 1.51.0 Command: rm -rf BHC.buildbin-libdir && mkdir BHC.buildbin-libdir && /Users/biocbuild/BBS/utils/build-universal.sh BHC_1.51.0.tar.gz /Library/Frameworks/R.framework/Resources/bin/R BHC.buildbin-libdir StartedAt: 2023-03-16 08:48:16 -0400 (Thu, 16 Mar 2023) EndedAt: 2023-03-16 08:49:44 -0400 (Thu, 16 Mar 2023) EllapsedTime: 87.1 seconds RetCode: 0 Status: OK PackageFile: BHC_1.51.0.tgz PackageFileSize: 257.1 KiB