Package: BG2 Version: 1.0.0 Command: chmod a+r BG2 -R && F:\biocbuild\bbs-3.17-bioc\R\bin\R.exe CMD build --keep-empty-dirs --no-resave-data BG2 StartedAt: 2023-10-15 17:32:51 -0400 (Sun, 15 Oct 2023) EndedAt: 2023-10-15 17:40:17 -0400 (Sun, 15 Oct 2023) EllapsedTime: 446.3 seconds RetCode: 0 Status: OK PackageFile: BG2_1.0.0.tar.gz PackageFileSize: 1.131 MiB