Package: BG2 Version: 1.0.0 Command: /home/biocbuild/bbs-3.17-bioc/R/bin/R CMD INSTALL BG2 StartedAt: 2023-10-15 15:40:38 -0400 (Sun, 15 Oct 2023) EndedAt: 2023-10-15 15:40:41 -0400 (Sun, 15 Oct 2023) EllapsedTime: 2.5 seconds RetCode: 0 Status: OK