Package: BEclear Version: 2.16.0 Command: F:\biocbuild\bbs-3.17-bioc\R\bin\R.exe CMD check --no-multiarch --install=check:BEclear.install-out.txt --library=F:\biocbuild\bbs-3.17-bioc\R\library --no-vignettes --timings BEclear_2.16.0.tar.gz StartedAt: 2023-10-15 23:47:18 -0400 (Sun, 15 Oct 2023) EndedAt: 2023-10-15 23:48:49 -0400 (Sun, 15 Oct 2023) EllapsedTime: 90.8 seconds RetCode: 0 Status: OK CheckDir: BEclear.Rcheck Warnings: 0