Package: BEclear Version: 2.16.0 Command: /home/biocbuild/bbs-3.17-bioc/R/bin/R CMD INSTALL BEclear StartedAt: 2023-10-15 15:17:58 -0400 (Sun, 15 Oct 2023) EndedAt: 2023-10-15 15:18:14 -0400 (Sun, 15 Oct 2023) EllapsedTime: 16.0 seconds RetCode: 0 Status: OK