Package: BEclear Version: 2.16.0 Command: /Library/Frameworks/R.framework/Resources/bin/R CMD INSTALL BEclear StartedAt: 2023-10-15 15:24:18 -0400 (Sun, 15 Oct 2023) EndedAt: 2023-10-15 15:25:14 -0400 (Sun, 15 Oct 2023) EllapsedTime: 55.8 seconds RetCode: 0 Status: OK