Package: BEclear Version: 2.16.0 Command: /Library/Frameworks/R.framework/Resources/bin/R CMD check --install=check:BEclear.install-out.txt --library=/Library/Frameworks/R.framework/Resources/library --no-vignettes --timings BEclear_2.16.0.tar.gz StartedAt: 2023-10-15 22:54:03 -0400 (Sun, 15 Oct 2023) EndedAt: 2023-10-15 22:56:59 -0400 (Sun, 15 Oct 2023) EllapsedTime: 176.5 seconds RetCode: 0 Status: OK CheckDir: BEclear.Rcheck Warnings: 0