Package: BEclear Version: 2.16.0 Command: rm -rf BEclear.buildbin-libdir && mkdir BEclear.buildbin-libdir && /Users/biocbuild/BBS/utils/build-universal.sh BEclear_2.16.0.tar.gz /Library/Frameworks/R.framework/Resources/bin/R BEclear.buildbin-libdir StartedAt: 2023-10-16 09:00:44 -0400 (Mon, 16 Oct 2023) EndedAt: 2023-10-16 09:01:41 -0400 (Mon, 16 Oct 2023) EllapsedTime: 56.2 seconds RetCode: 0 Status: OK PackageFile: BEclear_2.16.0.tgz PackageFileSize: 793.8 KiB