Package: BEAT Version: 1.38.0 Command: chmod a+r BEAT -R && F:\biocbuild\bbs-3.17-bioc\R\bin\R.exe CMD build --keep-empty-dirs --no-resave-data BEAT StartedAt: 2023-10-15 17:31:36 -0400 (Sun, 15 Oct 2023) EndedAt: 2023-10-15 17:33:15 -0400 (Sun, 15 Oct 2023) EllapsedTime: 98.3 seconds RetCode: 0 Status: OK PackageFile: BEAT_1.38.0.tar.gz PackageFileSize: 3.134 MiB