Package: BEAT Version: 1.38.0 Command: /home/biocbuild/bbs-3.17-bioc/R/bin/R CMD check --install=check:BEAT.install-out.txt --library=/home/biocbuild/bbs-3.17-bioc/R/site-library --timings BEAT_1.38.0.tar.gz StartedAt: 2023-10-15 19:27:48 -0400 (Sun, 15 Oct 2023) EndedAt: 2023-10-15 19:33:30 -0400 (Sun, 15 Oct 2023) EllapsedTime: 341.7 seconds RetCode: 0 Status: OK CheckDir: BEAT.Rcheck Warnings: 0