Package: BEAT Version: 1.38.0 Command: /Library/Frameworks/R.framework/Resources/bin/R CMD INSTALL BEAT StartedAt: 2023-10-15 15:36:21 -0400 (Sun, 15 Oct 2023) EndedAt: 2023-10-15 15:38:07 -0400 (Sun, 15 Oct 2023) EllapsedTime: 105.8 seconds RetCode: 0 Status: OK