Package: BEAT Version: 1.38.0 Command: /Library/Frameworks/R.framework/Resources/bin/R CMD check --install=check:BEAT.install-out.txt --library=/Library/Frameworks/R.framework/Resources/library --no-vignettes --timings BEAT_1.38.0.tar.gz StartedAt: 2023-10-15 22:53:42 -0400 (Sun, 15 Oct 2023) EndedAt: 2023-10-15 23:06:04 -0400 (Sun, 15 Oct 2023) EllapsedTime: 741.6 seconds RetCode: 0 Status: OK CheckDir: BEAT.Rcheck Warnings: 0