Package: BEARscc Version: 1.20.0 Command: /home/biocbuild/bbs-3.17-bioc/R/bin/R CMD check --install=check:BEARscc.install-out.txt --library=/home/biocbuild/bbs-3.17-bioc/R/site-library --timings BEARscc_1.20.0.tar.gz StartedAt: 2023-10-15 19:27:48 -0400 (Sun, 15 Oct 2023) EndedAt: 2023-10-15 19:31:38 -0400 (Sun, 15 Oct 2023) EllapsedTime: 229.9 seconds RetCode: 0 Status: OK CheckDir: BEARscc.Rcheck Warnings: 0