Package: BEARscc Version: 1.20.0 Command: /home/biocbuild/bbs-3.17-bioc/R/bin/R CMD build --keep-empty-dirs --no-resave-data BEARscc StartedAt: 2023-10-15 16:01:29 -0400 (Sun, 15 Oct 2023) EndedAt: 2023-10-15 16:02:28 -0400 (Sun, 15 Oct 2023) EllapsedTime: 58.9 seconds RetCode: 0 Status: OK PackageFile: BEARscc_1.20.0.tar.gz PackageFileSize: 639.7 KiB