Package: BEARscc Version: 1.20.0 Command: /Library/Frameworks/R.framework/Resources/bin/R CMD check --install=check:BEARscc.install-out.txt --library=/Library/Frameworks/R.framework/Resources/library --no-vignettes --timings BEARscc_1.20.0.tar.gz StartedAt: 2023-10-15 22:53:16 -0400 (Sun, 15 Oct 2023) EndedAt: 2023-10-15 23:02:23 -0400 (Sun, 15 Oct 2023) EllapsedTime: 547.5 seconds RetCode: 0 Status: OK CheckDir: BEARscc.Rcheck Warnings: 0